BEGIN:VCALENDAR
VERSION:2.0
PRODID:-//College of Agriculture and Life Sciences - ECPv6.15.17//NONSGML v1.0//EN
CALSCALE:GREGORIAN
METHOD:PUBLISH
X-WR-CALNAME:College of Agriculture and Life Sciences
X-ORIGINAL-URL:https://cals.ncsu.edu
X-WR-CALDESC:Events for College of Agriculture and Life Sciences
REFRESH-INTERVAL;VALUE=DURATION:PT1H
X-Robots-Tag:noindex
X-PUBLISHED-TTL:PT1H
BEGIN:VTIMEZONE
TZID:America/New_York
BEGIN:DAYLIGHT
TZOFFSETFROM:-0500
TZOFFSETTO:-0400
TZNAME:EDT
DTSTART:20250309T070000
END:DAYLIGHT
BEGIN:STANDARD
TZOFFSETFROM:-0400
TZOFFSETTO:-0500
TZNAME:EST
DTSTART:20251102T060000
END:STANDARD
BEGIN:DAYLIGHT
TZOFFSETFROM:-0500
TZOFFSETTO:-0400
TZNAME:EDT
DTSTART:20260308T070000
END:DAYLIGHT
BEGIN:STANDARD
TZOFFSETFROM:-0400
TZOFFSETTO:-0500
TZNAME:EST
DTSTART:20261101T060000
END:STANDARD
BEGIN:DAYLIGHT
TZOFFSETFROM:-0500
TZOFFSETTO:-0400
TZNAME:EDT
DTSTART:20270314T070000
END:DAYLIGHT
BEGIN:STANDARD
TZOFFSETFROM:-0400
TZOFFSETTO:-0500
TZNAME:EST
DTSTART:20271107T060000
END:STANDARD
END:VTIMEZONE
BEGIN:VEVENT
DTSTART;TZID=America/New_York:20260420T183000
DTEND;TZID=America/New_York:20260420T203000
DTSTAMP:20260420T015135
CREATED:20260225T132727Z
LAST-MODIFIED:20260415T191101Z
UID:1006769-1776709800-1776717000@cals.ncsu.edu
SUMMARY:The Art and Science of Plant Care
DESCRIPTION:Caring for plants is both an art and a science — part intuition\, part know-how. Every gardener\, from beginner to expert\, faces the same essential questions: When should I prune? How much should I water? What’s the best way to plant\, fertilize or repot? In this class\, Bryce Lane will bring decades of horticultural expertise to demystify these everyday tasks\, showing you not just what to do but why it works. \nOver eight weeks\, you’ll explore the fundamental practices that keep gardens thriving\, learning how to perform each one with confidence and purpose. You’ll uncover the science behind good technique — understanding how soil\, water\, nutrients and plant biology interact — while also developing the practical judgment that comes only with experience.\nEach session will focus on one key aspect of plant care\, building a complete toolkit for growing healthier\, more resilient plants in any garden setting.
URL:https://cals.ncsu.edu/event/the-art-and-science-of-plant-care-6/
LOCATION:JC Raulston Arboretum\, 4415 Beryl Rd\, Raleigh\, NC\, 27606\, United States
CATEGORIES:College of Agriculture and Life Sciences
GEO:35.794836;-78.7000942
X-APPLE-STRUCTURED-LOCATION;VALUE=URI;X-ADDRESS=JC Raulston Arboretum 4415 Beryl Rd Raleigh NC 27606 United States;X-APPLE-RADIUS=500;X-TITLE=4415 Beryl Rd:geo:-78.7000942,35.794836
END:VEVENT
BEGIN:VEVENT
DTSTART;TZID=America/New_York:20260422T090000
DTEND;TZID=America/New_York:20260422T140000
DTSTAMP:20260420T015135
CREATED:20260209T144345Z
LAST-MODIFIED:20260415T190645Z
UID:1006544-1776848400-1776866400@cals.ncsu.edu
SUMMARY:Earth Day Ag Showcase at the Small Farm Unit
DESCRIPTION:The Center for Environmental Farming Systems is proud to host an Earth Day celebration at the Small Farm Unit at the Cherry Research Farm in Goldsboro. Families\, students and community members are welcome to attend and explore hands-on activities that connect farming\, environmental technology and health. A special highlight of this year’s event will be the N.C. A&T Innovation Bus\, a state-of-the-art mobile learning space that will showcase cutting-edge technology\, agriculture and innovation for youth and adults. The Small Farm Unit is adjacent to the O’Berry Neuro-Medical Treatment Center\, which is located at 400 Old Smithfield Road (NC-581) in Goldsboro.
URL:https://cals.ncsu.edu/event/earth-day-ag-showcase-at-the-small-farm-unit/
CATEGORIES:College of Agriculture and Life Sciences
END:VEVENT
BEGIN:VEVENT
DTSTART;TZID=America/New_York:20260424T123000
DTEND;TZID=America/New_York:20260424T160000
DTSTAMP:20260420T015135
CREATED:20260415T232008Z
LAST-MODIFIED:20260415T232008Z
UID:1008486-1777033800-1777046400@cals.ncsu.edu
SUMMARY:4th Annual Biology & FWCB Graduate Student Symposium
DESCRIPTION:Join us to learn about the research being conducted by graduate students studying Biology and Fisheries\, Wildlife\, and Conservation Biology in the Applied Ecology and Biological Sciences programs. \n  \nDavid Clark Labs Lobby | 12:30-2:30 p.m.: poster session with heavy appetizers & refreshments catered by Wegman’s\nDavid Clark Labs 101 | 2:30-4 p.m.: lightning-talk presentations
URL:https://cals.ncsu.edu/event/4th-annual-biology-fwcb-graduate-student-symposium/
LOCATION:101 David Clark Labs
CATEGORIES:Applied Ecology,College of Agriculture and Life Sciences
END:VEVENT
BEGIN:VEVENT
DTSTART;TZID=America/New_York:20260424T130000
DTEND;TZID=America/New_York:20260424T163000
DTSTAMP:20260420T015135
CREATED:20260408T231507Z
LAST-MODIFIED:20260416T131907Z
UID:1008306-1777035600-1777048200@cals.ncsu.edu
SUMMARY:Yates Mill Aquatic Conservation Lab: Open House Tour
DESCRIPTION:About this Event\n\nMeet North Carolina’s Hidden Water Heroes! \nDid you know North Carolina has fantastic fish\, marvelous mussels\, and stupendous snails that need our help? Come discover these incredible freshwater creatures and learn how we’re working to save them! \nAt the Yates Mill Aquatic Conservation Lab (YMACL)\, we’re like underwater superheroes! Our NC State University lab is dedicated to protecting rare and endangered freshwater animals that live right here in North Carolina’s rivers and streams. \nWhat you’ll experience: \n\nGet up close with some of NC’s rarest aquatic animals\nDiscover why these little friends are so important to our ecosystem\nLearn how scientists are helping these species survive and thrive\nSee real conservation in action!\n\nWhether you’re 5 or 105\, you’ll leave amazed by the hidden wonders living in our state’s waterways. These surprising natural treasures are counting on us. Come see why they’re worth saving! \nThis is a free open-house style tour of the lab and it will be open on Friday\, April 24\, from 1-4:30 p.m. and Saturday\, April 25\, from 10 a.m.-noon and 1-3 p.m. \n\n\nHosted by Wake County Parks\, Recreation\, and Open Spaces\n\n\nYates Mill Aquatic Conservation Center: Open House Tour\n\nContact information\n\n\nAdam Prince-Yates Mill County Park\n\n\nAdam.prince@wake.gov\, 919-856-5638
URL:https://cals.ncsu.edu/event/yates-mill-aquatic-conservation-lab-open-house-tour-2/
LOCATION:Historic Yates Mill County Park\, 4620 Lake Wheeler Rd\, Raleigh\, 27603\, United States
CATEGORIES:Applied Ecology,College of Agriculture and Life Sciences
END:VEVENT
BEGIN:VEVENT
DTSTART;TZID=America/New_York:20260425T100000
DTEND;TZID=America/New_York:20260425T150000
DTSTAMP:20260420T015135
CREATED:20260225T132813Z
LAST-MODIFIED:20260225T132813Z
UID:1006506-1777111200-1777129200@cals.ncsu.edu
SUMMARY:Raulston Blooms! and Plant Sale
DESCRIPTION:Kick off the spring season with birds\, bugs and Raulston Blooms! Bring the whole family to this outdoor festival at the JC Raulston Arboretum to enjoy food\, a plant sale and a maker’s market. Admission to the event includes access to the plant sale. The last tickets will be sold at 2:30 p.m. on the event day.
URL:https://cals.ncsu.edu/event/raulston-blooms-and-plant-sale/
LOCATION:JC Raulston Arboretum\, 4415 Beryl Rd\, Raleigh\, NC\, 27606\, United States
GEO:35.794836;-78.7000942
X-APPLE-STRUCTURED-LOCATION;VALUE=URI;X-ADDRESS=JC Raulston Arboretum 4415 Beryl Rd Raleigh NC 27606 United States;X-APPLE-RADIUS=500;X-TITLE=4415 Beryl Rd:geo:-78.7000942,35.794836
END:VEVENT
BEGIN:VEVENT
DTSTART;TZID=America/New_York:20260425T100000
DTEND;TZID=America/New_York:20260425T150000
DTSTAMP:20260420T015135
CREATED:20260225T132849Z
LAST-MODIFIED:20260225T132849Z
UID:1006559-1777111200-1777129200@cals.ncsu.edu
SUMMARY:24th Annual Birdhouse Competition
DESCRIPTION:It’s that time of year again. Join the JC Raulston Arboretum for the 24th Annual Birdhouse Competition. What better way is there to celebrate the return of spring? If you love nature\, birds and unique garden art\, then this is the competition for you. Get out your sketch pad\, paints and toolbox to start building your creation today. Whether you join as a competitor or come to enjoy the creations\, the competition will surely be an experience you’ll never forget. Registration for competitors is open.
URL:https://cals.ncsu.edu/event/24th-annual-birdhouse-competition/
LOCATION:JC Raulston Arboretum\, 4415 Beryl Rd\, Raleigh\, NC\, 27606\, United States
GEO:35.794836;-78.7000942
X-APPLE-STRUCTURED-LOCATION;VALUE=URI;X-ADDRESS=JC Raulston Arboretum 4415 Beryl Rd Raleigh NC 27606 United States;X-APPLE-RADIUS=500;X-TITLE=4415 Beryl Rd:geo:-78.7000942,35.794836
END:VEVENT
BEGIN:VEVENT
DTSTART;TZID=America/New_York:20260425T100000
DTEND;TZID=America/New_York:20260425T150000
DTSTAMP:20260420T015135
CREATED:20260408T231508Z
LAST-MODIFIED:20260415T191136Z
UID:1008307-1777111200-1777129200@cals.ncsu.edu
SUMMARY:Yates Mill Aquatic Conservation Lab: Open House Tour
DESCRIPTION:About this Event\n\nMeet North Carolina’s Hidden Water Heroes! \nDid you know North Carolina has fantastic fish\, marvelous mussels\, and stupendous snails that need our help? Come discover these incredible freshwater creatures and learn how we’re working to save them! \nAt the Yates Mill Aquatic Conservation Lab (YMACL)\, we’re like underwater superheroes! Our NC State University lab is dedicated to protecting rare and endangered freshwater animals that live right here in North Carolina’s rivers and streams. \nWhat you’ll experience: \n\nGet up close with some of NC’s rarest aquatic animals\nDiscover why these little friends are so important to our ecosystem\nLearn how scientists are helping these species survive and thrive\nSee real conservation in action!\n\nWhether you’re 5 or 105\, you’ll leave amazed by the hidden wonders living in our state’s waterways. These surprising natural treasures are counting on us. Come see why they’re worth saving! \nThis is a free open-house style tour of the lab and it will be open on Friday\, April 24th from 1:00-4:30 p.m. and April 25th from 10 a.m.-noon and 1:00-3:00 p.m. \n\n\nHosted by Wake County Parks\, Recreation\, and Open Spaces\n\n\nYates Mill Aquatic Conservation Center: Open House Tour\n\ncontact information\n\n\nAdam Prince-Yates Mill County Park\n\n\nAdam.prince@wake.gov\, 919-856-5638
URL:https://cals.ncsu.edu/event/yates-mill-aquatic-conservation-lab-open-house-tour-3/
LOCATION:Historic Yates Mill County Park\, 4620 Lake Wheeler Rd\, Raleigh\, 27603\, United States
CATEGORIES:Applied Ecology,College of Agriculture and Life Sciences
END:VEVENT
BEGIN:VEVENT
DTSTART;TZID=America/New_York:20260427T183000
DTEND;TZID=America/New_York:20260427T203000
DTSTAMP:20260420T015135
CREATED:20260304T205954Z
LAST-MODIFIED:20260304T205954Z
UID:1006770-1777314600-1777321800@cals.ncsu.edu
SUMMARY:The Art and Science of Plant Care
DESCRIPTION:Caring for plants is both an art and a science — part intuition\, part know-how. Every gardener\, from beginner to expert\, faces the same essential questions: When should I prune? How much should I water? What’s the best way to plant\, fertilize or repot? In this class\, Bryce Lane will bring decades of horticultural expertise to demystify these everyday tasks\, showing you not just what to do but why it works. \nOver eight weeks\, you’ll explore the fundamental practices that keep gardens thriving\, learning how to perform each one with confidence and purpose. You’ll uncover the science behind good technique — understanding how soil\, water\, nutrients and plant biology interact — while also developing the practical judgment that comes only with experience. Each session will focus on one key aspect of plant care\, building a complete toolkit for growing healthier\, more resilient plants in any garden setting.
URL:https://cals.ncsu.edu/event/the-art-and-science-of-plant-care-7/
LOCATION:JC Raulston Arboretum\, 4415 Beryl Rd\, Raleigh\, NC\, 27606\, United States
GEO:35.794836;-78.7000942
X-APPLE-STRUCTURED-LOCATION;VALUE=URI;X-ADDRESS=JC Raulston Arboretum 4415 Beryl Rd Raleigh NC 27606 United States;X-APPLE-RADIUS=500;X-TITLE=4415 Beryl Rd:geo:-78.7000942,35.794836
END:VEVENT
BEGIN:VEVENT
DTSTART;VALUE=DATE:20260428
DTEND;VALUE=DATE:20260429
DTSTAMP:20260420T015135
CREATED:20260402T000008Z
LAST-MODIFIED:20260402T000008Z
UID:1008163-1777334400-1777420799@cals.ncsu.edu
SUMMARY:Last Day of Classes
DESCRIPTION:Tuesday\, April 28\nLast day of classes
URL:https://cals.ncsu.edu/event/last-day-of-classes-2/
CATEGORIES:Academics,College of Agriculture and Life Sciences
END:VEVENT
BEGIN:VEVENT
DTSTART;TZID=America/New_York:20260429T090000
DTEND;TZID=America/New_York:20260429T123000
DTSTAMP:20260420T015135
CREATED:20260407T175110Z
LAST-MODIFIED:20260407T175110Z
UID:1008183-1777453200-1777465800@cals.ncsu.edu
SUMMARY:Plant and Microbial Biology Undergraduate Research Symposium
DESCRIPTION:Join the Department of Plant and Microbial Biology for its undergraduate research symposium. You’ll hear about the incredible work the department’s undergraduates accomplished this semester and their future research goals. All are welcome to attend\, and light refreshments will be provided.
URL:https://cals.ncsu.edu/event/plant-and-microbial-biology-undergraduate-research-symposium-2/
LOCATION:Williams Hall\, 2223 (McKimmon Room)
CATEGORIES:College of Agriculture and Life Sciences
END:VEVENT
BEGIN:VEVENT
DTSTART;TZID=America/New_York:20260429T100000
DTEND;TZID=America/New_York:20260429T120000
DTSTAMP:20260420T015135
CREATED:20260408T231508Z
LAST-MODIFIED:20260408T231508Z
UID:1008309-1777456800-1777464000@cals.ncsu.edu
SUMMARY:Spring 2026 Applied Ecology Minors’ Symposium
DESCRIPTION:Mark your calendars for the Spring 2026 Applied Ecology Minors’ Research Symposium! Undergraduate students earning the Applied Ecology minor present their results from their mentored research experience. \nWednesday\, April 29\n10 a.m.- noon | 204 Fox Teaching Labs & Zoom \nLearn more about the Applied Ecology minor on our website. \n\n\n\nTime\nPresenter\nMentor\n\n\n10:00 a.m.\nErin McKenney\n\n\n\n10:05 a.m.\nAutumn Gates\n\n\nIsabella Livingstone\n\n\n\n\n10:20 a.m.\nMatthew Keough-Lopez\nSkylar Hopkins\n\n\n10:35 a.m.\nEllison Marshall\nGeorge Tiley\n\n\n10:50 a.m.\nSam Stanforth\n\n\nStacy Zhang and Lindsay Curl\n\n\n\n\n11:05 a.m.\nEmily Babb\nElsa Youngstead\n\n\n11:20 a.m.\nIsley Fryar\nMadhu Katti\n\n\n11:35 a.m.\nAlyssa Weeks\nRoland Kays\n\n\n11:50 a.m.\nKara Vold\nSkylar Hopkins
URL:https://cals.ncsu.edu/event/spring-2026-applied-ecology-minors-symposium/
LOCATION:204 Fox Teaching Labs\, 2791 Pillsbury Cir\, Raleigh\, NC\, 27607\, United States
CATEGORIES:Applied Ecology,College of Agriculture and Life Sciences
ATTACH;FMTTYPE=image/jpeg:https://cals.ncsu.edu/wp-content/uploads/2026/04/26-minors-symposium-for-screens-LyZ6UQ.jpe
END:VEVENT
END:VCALENDAR